BEGIN:VCALENDAR
VERSION:2.0
PRODID:-// - ECPv6.15.3//NONSGML v1.0//EN
CALSCALE:GREGORIAN
METHOD:PUBLISH
X-ORIGINAL-URL:https://deafhhs.org
X-WR-CALDESC:Events for 
REFRESH-INTERVAL;VALUE=DURATION:PT1H
X-Robots-Tag:noindex
X-PUBLISHED-TTL:PT1H
BEGIN:VTIMEZONE
TZID:UTC
BEGIN:STANDARD
TZOFFSETFROM:+0000
TZOFFSETTO:+0000
TZNAME:UTC
DTSTART:20200101T000000
END:STANDARD
END:VTIMEZONE
BEGIN:VEVENT
DTSTART;TZID=UTC:20200229T110000
DTEND;TZID=UTC:20200229T140000
DTSTAMP:20260425T155900
CREATED:20200223T233758Z
LAST-MODIFIED:20200223T233758Z
UID:2610-1582974000-1582984800@deafhhs.org
SUMMARY:Teen Club Cooking Class
DESCRIPTION:Teen Club is an opportunity for Deaf\, DeafBlind\, & Hard of Hearing students/teen to meet new friends and participate in fun activities that build new skills!\n\n\nJoin us in learning what it is like to cook. This class is open to Deaf\, DeafBlind\, and Hard of Hearing teens who want to learn how to cook with friends. Students will learn how to make a homemade meal and enjoy it once they are finished.\n\n\nThis is a 3 hour event taking place on February 29  11 am – 2 pm..\n\n\nRegister for this outing by February 26.  This is a FREE event for Deaf\, Deafblind\, & Hard of Hearing students/teens in middle school or high school only.\n\n\nThere is limited space available so please reserve your space as soon as possible.\n\n\n\n\n\nQuestions? Contact us – \n\n\n\nemail: kidsigns@deafhhs.org \n\n\nTelephone: 616-732-7358 \n\n\n\n 
URL:https://deafhhs.org/event/teen-club-cooking-class/
LOCATION:Mary Free Bed YMCA\, 5500 Burton St SE\, Grand Rapids\, MI 49546\, Grand Rapids\, MI\, 49546\, US
ATTACH;FMTTYPE=image/png:https://deafhhs.org/wp-content/uploads/2020/02/2610_image.png
END:VEVENT
END:VCALENDAR