BEGIN:VCALENDAR
VERSION:2.0
PRODID:-// - ECPv6.15.3//NONSGML v1.0//EN
CALSCALE:GREGORIAN
METHOD:PUBLISH
X-ORIGINAL-URL:https://deafhhs.org
X-WR-CALDESC:Events for 
REFRESH-INTERVAL;VALUE=DURATION:PT1H
X-Robots-Tag:noindex
X-PUBLISHED-TTL:PT1H
BEGIN:VTIMEZONE
TZID:UTC
BEGIN:STANDARD
TZOFFSETFROM:+0000
TZOFFSETTO:+0000
TZNAME:UTC
DTSTART:20200101T000000
END:STANDARD
END:VTIMEZONE
BEGIN:VEVENT
DTSTART;TZID=UTC:20200321T100000
DTEND;TZID=UTC:20200321T160000
DTSTAMP:20260425T142846
CREATED:20200223T233945Z
LAST-MODIFIED:20200312T165916Z
UID:2618-1584784800-1584806400@deafhhs.org
SUMMARY:CANCELLED - Sugarbush Festival 2020
DESCRIPTION:This event has been cancelled due to COVID-19\nQuestions? Contact us –\n\n\nemail: community@deafhhs.org\n\n\nTelephone: 616-732-7358
URL:https://deafhhs.org/event/sugarbush-festival-2020/
LOCATION:Blandford Nature Center\, 1715 Hillburn Ave NW\, Grand Rapids\, MI 49504\, Grand Rapids\, MI\, 49504\, US
ATTACH;FMTTYPE=image/png:https://deafhhs.org/wp-content/uploads/2020/02/Sugarbush-Cancel.png
END:VEVENT
END:VCALENDAR