BEGIN:VCALENDAR
VERSION:2.0
PRODID:-// - ECPv6.15.3//NONSGML v1.0//EN
CALSCALE:GREGORIAN
METHOD:PUBLISH
X-ORIGINAL-URL:https://deafhhs.org
X-WR-CALDESC:Events for 
REFRESH-INTERVAL;VALUE=DURATION:PT1H
X-Robots-Tag:noindex
X-PUBLISHED-TTL:PT1H
BEGIN:VTIMEZONE
TZID:UTC
BEGIN:STANDARD
TZOFFSETFROM:+0000
TZOFFSETTO:+0000
TZNAME:UTC
DTSTART:20210101T000000
END:STANDARD
END:VTIMEZONE
BEGIN:VEVENT
DTSTART;TZID=UTC:20210501T090000
DTEND;TZID=UTC:20210501T120000
DTSTAMP:20260424T150646
CREATED:20210412T155714Z
LAST-MODIFIED:20210412T155714Z
UID:4121-1619859600-1619870400@deafhhs.org
SUMMARY:Deaf Day on the Farm
DESCRIPTION:Group event\n\n\nDEAF DAY ON THE FARM \nAre you interested in seeing animals and learning how they are taken care of at Fellinlove Farm? Join us for a day of fun on the farm for Deaf\, DeafBlind\, and Hard of Hearing Children and their families including: \n    – Signed story time \n    -Farm and animal tour \n   -Nature trail walks \n   -Family fun time \n*ASL Interpreters provided for all group activities.* \nThis event is FREE for Deaf\, DeafBlind\, and Hard of Hearing youth. For all other individuals we ask that you make a $5 donation at the gate. We ask that you please pre-register all attendees  so that we know how many plan to attend. There is a limit of 30 so please get your tickets soon. \nPlease follow COVID safety by wearing a mask and staying socially distanced. Capacity is limited due to COVID. \nWe look forward to seeing you there! \n \nTime & Date: \nSaturday\, May 1 from 9am to noon. \n \nLocation:  \nFellinlove Farm \n6364 144th Ave Holland\, MI 49423 \n \nQuestions about the event? Please email Erica Chapin\, Community & Partnerships Manager\, at community@deafhhs.org \n \nD&HHS staff and volunteers at the event will wear facemasks as a COVID-19 safety measure. We encourage participants to wear masks and stay socially distant during the event as well.
URL:https://deafhhs.org/event/deaf-day-on-the-farm/
LOCATION:Fellinlove Farm\, 6364 144th Avenue\, Holland\, MI 49423\, Holland\, MI\, 49423\, US
ATTACH;FMTTYPE=image/png:https://deafhhs.org/wp-content/uploads/2021/04/4121_image.png
END:VEVENT
END:VCALENDAR