BEGIN:VCALENDAR
VERSION:2.0
PRODID:-// - ECPv6.15.3//NONSGML v1.0//EN
CALSCALE:GREGORIAN
METHOD:PUBLISH
X-ORIGINAL-URL:https://deafhhs.org
X-WR-CALDESC:Events for 
REFRESH-INTERVAL;VALUE=DURATION:PT1H
X-Robots-Tag:noindex
X-PUBLISHED-TTL:PT1H
BEGIN:VTIMEZONE
TZID:UTC
BEGIN:STANDARD
TZOFFSETFROM:+0000
TZOFFSETTO:+0000
TZNAME:UTC
DTSTART:20210101T000000
END:STANDARD
END:VTIMEZONE
BEGIN:VEVENT
DTSTART;TZID=UTC:20210712T090000
DTEND;TZID=UTC:20210716T120000
DTSTAMP:20260424T114012
CREATED:20210611T155630Z
LAST-MODIFIED:20210611T155630Z
UID:4295-1626080400-1626436800@deafhhs.org
SUMMARY:Kids Kamp 2021 - Kenny's Kids Kamp Kurious Kits
DESCRIPTION:Virtual Kids Kamp\n\n\nOur annual Kids Kamp is going virtual again! Each day we will release a new set of videos on our YouTube channel featuring a fun virtual adventure with our favorite Kamp counselor\, Nancy! We will be exploring some of the Grand Rapids area’s favorite family attractions with our Kids Kamp friend\, Kenny the Monkey. Access to Virtual Kids Kamp videos are completely FREE! Appropriate for kids ages 3-12. \n \nOn their adventures Nancy and Kenny will be visiting: \nBlandford Nature Center \nGrand Rapids Recycling Center \nThe John Ball Zoo \nMeijer Gardens \n \nCome along with Nancy and Kenny on their adventures\, July 12-16\, 2020! In addition to our ASL videos\, completely accessible with spoken English interpretation and written English captions\, you can also purchase a Kenny’s Kids Kamp Kurious Kit! Your Kurious Activity Kit will be full of fun things to do and learn related to the places Nancy and Kenny visit! Each kit will include snacks and drinks for each day\, ASL vocabulary\, crafts\, and other fun activities to promote new learning experiences! In addition\, the purchase of a Kurious Activity Kit also enters you into a daily drawing for bonus prizes from our locations! \n \nRegistration closes July 5th at 5pm. \nNancy and Kenny will be at the Deaf and Hard of Hearing Services office in Kentwood\, MI on July 9th from 4pm-6pm to pass out your pre-ordered Kurious Activity Kit. If you can’t make it to the office in person\, we may be able to deliver within a 30 mile radius or ship directly to your home for an additional cost. Please contact us if you have a specific question about delivery.  \n \nQuestions? Please email Erica Chapin\, Community & Partnerships Manager\, at community@deafhhs.org. If you have a question about pricing or if you need to speak to someone about a scholarship for Kenny’s Kids Kamp Kurious Kit\, please call Denise at 616-732-7358.
URL:https://deafhhs.org/event/kids-kamp-2021-kennys-kids-kamp-kurious-kits/
LOCATION:Virtual online\, 3680 44th Street Suite 201\, KENTWOOD\, MI 49512\, KENTWOOD\, MI\, 49512\, US
ATTACH;FMTTYPE=image/png:https://deafhhs.org/wp-content/uploads/2021/06/4295_image.png
END:VEVENT
END:VCALENDAR