BEGIN:VCALENDAR
VERSION:2.0
PRODID:-// - ECPv6.15.3//NONSGML v1.0//EN
CALSCALE:GREGORIAN
METHOD:PUBLISH
X-ORIGINAL-URL:https://deafhhs.org
X-WR-CALDESC:Events for 
REFRESH-INTERVAL;VALUE=DURATION:PT1H
X-Robots-Tag:noindex
X-PUBLISHED-TTL:PT1H
BEGIN:VTIMEZONE
TZID:UTC
BEGIN:STANDARD
TZOFFSETFROM:+0000
TZOFFSETTO:+0000
TZNAME:UTC
DTSTART:20210101T000000
END:STANDARD
END:VTIMEZONE
BEGIN:VEVENT
DTSTART;TZID=UTC:20211211T100000
DTEND;TZID=UTC:20211211T130000
DTSTAMP:20260424T040627
CREATED:20211115T205731Z
LAST-MODIFIED:20211115T205731Z
UID:4796-1639216800-1639227600@deafhhs.org
SUMMARY:Signing Santa 2021
DESCRIPTION:Drive-thru holiday event\n\n\nCome out to our annual Signing Santa event\, this year with a twist. It’s Drive-Thru Signing Santa!  \n \nPack your family in the car and head over to Little Pine Island Camp for a fun filled holiday drive-thru. The path will have various stations including refreshment\, games\, take-aways\, and of course Santa! During the event\, attendees will remain in their cars as they drive the trail from station to station. When you arrive at Santa\, the kids will get to sign with him about what they want this year and even receive a gift! \n \nThis event is FREE to attend. We ask that you please pre-register the children attending so that our elves know how many gifts to have ready!  \n \nWe look forward to seeing you there! \n \nTime & Date: \nSaturday\, December 11th\, 2021 from 10am-1pm \n \nLocation:  \nLittle Pine Island Camp  \n6889 Pine Island Dr NE\, Comstock Park\, MI 49321 \n \nQuestions about the event? Please email Erica Chapin\, Community & Partnerships Manager\, at community@deafhhs.org \n \nGift donations are being collected for the children at this event. Please contact Erica Chapin at community@deafhhs.org for more details on how to make a gift donation. Or\, make a direct donation to support the event online at www.deafhhs.org/donate   \n \n– \n \nAll attendees must follow Camp rules while on property: \n-No use or possession of alcohol\, tobacco\, or other drugs \n-No use of profane language \n-No pets allowed on the campground (with the exception of a service dog) \n \nD&HHS staff and volunteers at the event will wear facemasks as a COVID-19 safety measure. We encourage participants to wear masks and stay socially distant during the event as well.
URL:https://deafhhs.org/event/signing-santa-2021/
LOCATION:Little Pine Island Camp\, 6889 Pine Island Dr NE\, Comstock Park\, MI 49321\, Comstock Park\, MI\, 49321\, US
ATTACH;FMTTYPE=image/png:https://deafhhs.org/wp-content/uploads/2021/11/4796_image.png
END:VEVENT
END:VCALENDAR