BEGIN:VCALENDAR
VERSION:2.0
PRODID:-// - ECPv6.15.3//NONSGML v1.0//EN
CALSCALE:GREGORIAN
METHOD:PUBLISH
X-ORIGINAL-URL:https://deafhhs.org
X-WR-CALDESC:Events for 
REFRESH-INTERVAL;VALUE=DURATION:PT1H
X-Robots-Tag:noindex
X-PUBLISHED-TTL:PT1H
BEGIN:VTIMEZONE
TZID:UTC
BEGIN:STANDARD
TZOFFSETFROM:+0000
TZOFFSETTO:+0000
TZNAME:UTC
DTSTART:20220101T000000
END:STANDARD
END:VTIMEZONE
BEGIN:VEVENT
DTSTART;TZID=UTC:20220517T180000
DTEND;TZID=UTC:20220517T200000
DTSTAMP:20260423T133401
CREATED:20220330T181408Z
LAST-MODIFIED:20220330T181408Z
UID:5193-1652810400-1652817600@deafhhs.org
SUMMARY:Professional Conversations
DESCRIPTION:Professional Conversations\n\n\nDescription: \nProfessional Conversations\, hosted by the D&HHS Mentor Program\, invites future and current working interpreters to participate in Bi-monthly ethical discussions centered around creating professional communities of practice as an ASL interpreter. \nTuesday May 17\, 2022 from 6 – 8pm. Online conversations hosted on Zoom.  \n$20/participant until May 3\, 2022. Price increase after that.  \nWorkshop will be held in spoken English. Accommodation requests must be made by  4 pm on May 10\, 2022. \nConnecticut RID is an approved RID CMP Sponsor for Continuing Education Activities. This Professional Studies (PS) program is offered for 0.2 CEUs at the “Some” instructional level. \n**State of MI “Ethics” CEUs pending** \nCancellation Policy – 50% refund if cancelled by May 3 2022. After this date\, no refund will be given. D&HHS reserves the right to cancel at any time with a full refund. Eventbrite fees will NOT be refunded.
URL:https://deafhhs.org/event/professional-conversations/
LOCATION:Online\, 3680 44th Street\, Suite 201\, Kentwood\, MI 49512\, Kentwood\, MI\, 49512\, US
ATTACH;FMTTYPE=image/jpeg:https://deafhhs.org/wp-content/uploads/2022/03/5193_image.jpg
END:VEVENT
END:VCALENDAR