BEGIN:VCALENDAR
VERSION:2.0
PRODID:-// - ECPv6.15.3//NONSGML v1.0//EN
CALSCALE:GREGORIAN
METHOD:PUBLISH
X-ORIGINAL-URL:https://deafhhs.org
X-WR-CALDESC:Events for 
REFRESH-INTERVAL;VALUE=DURATION:PT1H
X-Robots-Tag:noindex
X-PUBLISHED-TTL:PT1H
BEGIN:VTIMEZONE
TZID:UTC
BEGIN:STANDARD
TZOFFSETFROM:+0000
TZOFFSETTO:+0000
TZNAME:UTC
DTSTART:20220101T000000
END:STANDARD
END:VTIMEZONE
BEGIN:VEVENT
DTSTART;TZID=UTC:20220606T170000
DTEND;TZID=UTC:20220606T190000
DTSTAMP:20260423T093025
CREATED:20220505T151241Z
LAST-MODIFIED:20220505T151241Z
UID:5281-1654534800-1654542000@deafhhs.org
SUMMARY:Children's Museum Event
DESCRIPTION:A fun night at the museum for families!\n\n\nA night of fun for Deaf\, DeafBlind\, and Hard ofHearing children and families! Join us at the GrandRapids Children’s Museum for a night of play. \n*Interpreters will be provided* \nFREE event\, but attendees MUST pre-register! We ask that you please pre-register everyone who plans to attend\, both children and adults\, so that we have an accurate count for the museum.  Register by May 26th at 5pm. \nWe look forward to seeing you there! \nTime & Date: \nMonday June 6\, 2022 5pm-7pm. \nLocation:  \nChildren’s Museum \n11 Sheldon Ave NE Grand Rapids\, MI 49503 \nQuestions about the event? Please email Erica Chapin\, Community & Partnerships Manager\, at community@deafhhs.org
URL:https://deafhhs.org/event/childrens-museum-event/
LOCATION:Grand Rapids Children’s Museum\, 11 Sheldon Ave NE\, Grand Rapids\, MI 49503\, Grand Rapids\, MI\, 49503\, US
ATTACH;FMTTYPE=image/png:https://deafhhs.org/wp-content/uploads/2022/05/5281_image.png
END:VEVENT
END:VCALENDAR