BEGIN:VCALENDAR
VERSION:2.0
PRODID:-// - ECPv6.15.3//NONSGML v1.0//EN
CALSCALE:GREGORIAN
METHOD:PUBLISH
X-ORIGINAL-URL:https://deafhhs.org
X-WR-CALDESC:Events for 
REFRESH-INTERVAL;VALUE=DURATION:PT1H
X-Robots-Tag:noindex
X-PUBLISHED-TTL:PT1H
BEGIN:VTIMEZONE
TZID:UTC
BEGIN:STANDARD
TZOFFSETFROM:+0000
TZOFFSETTO:+0000
TZNAME:UTC
DTSTART:20220101T000000
END:STANDARD
END:VTIMEZONE
BEGIN:VEVENT
DTSTART;TZID=UTC:20220627T090000
DTEND;TZID=UTC:20220701T120000
DTSTAMP:20260423T052935
CREATED:20220503T171928Z
LAST-MODIFIED:20220503T171928Z
UID:5277-1656320400-1656676800@deafhhs.org
SUMMARY:Kids Kamp 2022
DESCRIPTION:Kids Kamp June 27 – July 1\, 2022\n\n\nJoin Deaf and Hard of Hearing Services for a week of fun\, Monday\, June 27 – Friday\, July 1\, 2022\, from 9 am -12 pm each day!   \nKids Kamp will be held at our future home at the Special Olympics Unified Sports and Inclusion Center\, at 160 68th St SW\, Grand Rapids\, MI 49548. \nKamp is open to all children ages 3-12 (must be potty-trained). \nFun activities all week including cooking\, art\, science\, outdoor activities\, and more! Snacks are included each day. \nEarly Bird ticket until June 17th is $85 for the first child and $70 for each additional child. After June 17th the cost is $95 for the first child and $80 for each additional child. \nScholarships are available! Contact datwood@deafhhs.org for more information. Scholarship registration requires a code before you can sign up! \nRegistration closes June 24th at 5pm. Refunds available until registration closes. NO REFUNDS WILL BE GIVEN AFTER JUNE 24TH AT 5 PM. Only the cost of the Kamp will be refunded. The Eventbrite fees are non-refundable. \nIf you need additional accommodations\, please contact Erica Chapin at 616-732-7358 or community@deafhhs.org. ASL Interpreters will be provided.
URL:https://deafhhs.org/event/kids-kamp-2022/
LOCATION:Special Olympics of Michigan Building (new office of D&HHS)\, 160 68th St SW\, Grand Rapids\, MI 49548\, Grand Rapids\, MI\, 49548\, US
ATTACH;FMTTYPE=image/png:https://deafhhs.org/wp-content/uploads/2022/05/5277_image.png
END:VEVENT
BEGIN:VEVENT
DTSTART;TZID=UTC:20220627T140000
DTEND;TZID=UTC:20220627T160000
DTSTAMP:20260423T052935
CREATED:20220616T122001Z
LAST-MODIFIED:20220616T122001Z
UID:5348-1656338400-1656345600@deafhhs.org
SUMMARY:Teen Cooking Class
DESCRIPTION:Learn healthy eating and making snacks\n\n\nJoin Deaf Nutritionist Sandria Graham to talk about healthy eating and make some delicious snacks with friends! This event is for Deaf\, DeafBlind\, and Hard of Hearing teens (ages 13-19). \n*Class given in ASL – Interpreters will be provided* \nFREE event\, but attendees MUST pre-register!   Register by June 24th at 5pm. Seating is limited. \nWe look forward to seeing you there! \nTime & Date: \nMonday June 27\, 2022 2-4pm. \nLocation:  \nDeaf & Hard of Hearing Services \n160 68th St SW \nGrand Rapids\, MI 49548 \nQuestions about the event? Please email Erica Chapin\, Community & Partnerships Manager\, at community@deafhhs.org
URL:https://deafhhs.org/event/teen-cooking-class/
LOCATION:Deaf & Hard of Hearing Services\, 160 68th St SW\, Grand Rapids\, MI 49548\, Grand Rapids\, MI\, 49548\, US
ATTACH;FMTTYPE=image/png:https://deafhhs.org/wp-content/uploads/2022/06/5348_image.png
END:VEVENT
END:VCALENDAR