BEGIN:VCALENDAR
VERSION:2.0
PRODID:-// - ECPv6.15.3//NONSGML v1.0//EN
CALSCALE:GREGORIAN
METHOD:PUBLISH
X-ORIGINAL-URL:https://deafhhs.org
X-WR-CALDESC:Events for 
REFRESH-INTERVAL;VALUE=DURATION:PT1H
X-Robots-Tag:noindex
X-PUBLISHED-TTL:PT1H
BEGIN:VTIMEZONE
TZID:UTC
BEGIN:STANDARD
TZOFFSETFROM:+0000
TZOFFSETTO:+0000
TZNAME:UTC
DTSTART:20220101T000000
END:STANDARD
END:VTIMEZONE
BEGIN:VEVENT
DTSTART;TZID=UTC:20220818T170000
DTEND;TZID=UTC:20220818T183000
DTSTAMP:20260423T004435
CREATED:20220720T152431Z
LAST-MODIFIED:20220720T152431Z
UID:5453-1660842000-1660847400@deafhhs.org
SUMMARY:Ribbon Cutting
DESCRIPTION:Ribbon Cutting and Open House\n\n\nRibbon Cutting and Open House \nJoin us in celebration as we unveil our new office spaces to the public! Ribbon cutting and brief remarks at 5:30 pm on August 18th at our new location: \n160 68th St SW Ste 140 \nGrand Rapids MI 49548 \n Light refreshments will be served. \n \nRSVP by August 12th by registering here.
URL:https://deafhhs.org/event/ribbon-cutting/
LOCATION:160 68th St SW\, 160 68th Street SW Ste 140\, Grand Rapids\, MI 49548\, Grand Rapids\, MI\, 49548\, US
ATTACH;FMTTYPE=image/png:https://deafhhs.org/wp-content/uploads/2022/07/5453_image.png
END:VEVENT
END:VCALENDAR