BEGIN:VCALENDAR
VERSION:2.0
PRODID:-// - ECPv6.15.3//NONSGML v1.0//EN
CALSCALE:GREGORIAN
METHOD:PUBLISH
X-ORIGINAL-URL:https://deafhhs.org
X-WR-CALDESC:Events for 
REFRESH-INTERVAL;VALUE=DURATION:PT1H
X-Robots-Tag:noindex
X-PUBLISHED-TTL:PT1H
BEGIN:VTIMEZONE
TZID:UTC
BEGIN:STANDARD
TZOFFSETFROM:+0000
TZOFFSETTO:+0000
TZNAME:UTC
DTSTART:20230101T000000
END:STANDARD
END:VTIMEZONE
BEGIN:VEVENT
DTSTART;TZID=UTC:20230111T170000
DTEND;TZID=UTC:20230111T190000
DTSTAMP:20260420T133535
CREATED:20221215T192148Z
LAST-MODIFIED:20221215T192148Z
UID:5723-1673456400-1673463600@deafhhs.org
SUMMARY:Grand Rapids Art Museum Event
DESCRIPTION:A fun night at the museum for families!\n\n\nImagination Unlimited at the GRAM \n \nWednesday\, Jan 11 @ 5pm \nGrand Rapids Art Museum  \n101 Monroe Center St NW\, Grand Rapids\, MI 49503 \n \nDeaf and Hard of Hearing Services is partnering with Quota Club of Grand Rapids for a night at the Grand Rapids Art Museum for Deaf\, DeafBlind\, and Hard of Hearing children and their families! Join us to experience The Jim Henson Exhibition: Imagination Unlimited.  \n \nASL interpreters will be provided \n \nThis is a free event\, but you must pre-register to attend! Children will also have an opportunity to assemble their own finger puppets! If you are interested in participating in the finger puppet workshop\, please be sure check the box at registration. \n \nYou must register by January 3rd so that we can give the final count to the museum. If you register but are no longer able to attend\, please contact us to cancel your order. \n \nIf you have any questions\, please contact community@deafhhs.org
URL:https://deafhhs.org/event/grand-rapids-art-museum-event/
LOCATION:Grand Rapids Children’s Museum\, 101 Monroe Center St NW\, Grand Rapids\, MI 49503\, Grand Rapids\, MI\, 49503\, US
ATTACH;FMTTYPE=image/png:https://deafhhs.org/wp-content/uploads/2022/12/5723_image.png
END:VEVENT
END:VCALENDAR