BEGIN:VCALENDAR
VERSION:2.0
PRODID:-// - ECPv6.15.3//NONSGML v1.0//EN
CALSCALE:GREGORIAN
METHOD:PUBLISH
X-ORIGINAL-URL:https://deafhhs.org
X-WR-CALDESC:Events for 
REFRESH-INTERVAL;VALUE=DURATION:PT1H
X-Robots-Tag:noindex
X-PUBLISHED-TTL:PT1H
BEGIN:VTIMEZONE
TZID:UTC
BEGIN:STANDARD
TZOFFSETFROM:+0000
TZOFFSETTO:+0000
TZNAME:UTC
DTSTART:20230101T000000
END:STANDARD
END:VTIMEZONE
BEGIN:VEVENT
DTSTART;TZID=UTC:20230415T090000
DTEND;TZID=UTC:20230415T180000
DTSTAMP:20260419T221707
CREATED:20230210T164156Z
LAST-MODIFIED:20230210T164156Z
UID:5777-1681549200-1681581600@deafhhs.org
SUMMARY:DeafBlind 101 and Haptics with Jill Gaus
DESCRIPTION:Interpreting for DeafBlind individuals.\n\n\nDescription: \nJ﻿oin us to learn the essentials of interpreting for DeafBlind individuals. Through hands-on activities\, role playing\, and lecture\, participants will practice the skills needed to work with DeafBlind consumers and gain knowledge about the various communication modes used. \nT﻿icket price is $125. Register by March 18 to receive a $10 early bird discount! \n*L﻿unch will be provided as part of the workshop. ATTENDANCE IS REQUIRED FOR FULL CREDIT* \n \n**Michigan LARA-BCHS “Ethics” CEUs are PENDING** \n \nC﻿ancellation policy – A 50% refund will be issued if cancelled before March 18. No refunds will be given after this date. Eventbrite fees will not be refunded.
URL:https://deafhhs.org/event/deafblind-101-and-haptics-with-jill-gaus/
LOCATION:Online with Zoom\, 160 68th St SW\, Grand Rapids\, MI 49548\, Grand Rapids\, MI\, 49548\, US
ATTACH;FMTTYPE=image/png:https://deafhhs.org/wp-content/uploads/2023/02/5777_image.png
END:VEVENT
END:VCALENDAR