BEGIN:VCALENDAR
VERSION:2.0
PRODID:-// - ECPv6.15.3//NONSGML v1.0//EN
CALSCALE:GREGORIAN
METHOD:PUBLISH
X-ORIGINAL-URL:https://deafhhs.org
X-WR-CALDESC:Events for 
REFRESH-INTERVAL;VALUE=DURATION:PT1H
X-Robots-Tag:noindex
X-PUBLISHED-TTL:PT1H
BEGIN:VTIMEZONE
TZID:UTC
BEGIN:STANDARD
TZOFFSETFROM:+0000
TZOFFSETTO:+0000
TZNAME:UTC
DTSTART:20230101T000000
END:STANDARD
END:VTIMEZONE
BEGIN:VEVENT
DTSTART;TZID=UTC:20230420T173000
DTEND;TZID=UTC:20230420T213000
DTSTAMP:20260419T221707
CREATED:20230418T195925Z
LAST-MODIFIED:20230418T195925Z
UID:5827-1682011800-1682026200@deafhhs.org
SUMMARY:CODA Movie - Deaf History Month Event
DESCRIPTION:Movie at the Wealthy Theatre\n\n\nJoin us to celebrate Deaf History Month with a viewing of the award-winning film CODA! \n \nThursday\, April 20\,2023.  \nDoors open at 5:30PM. Film starts at 6:30PM. P﻿anel discussion directly after the film ends. \nW﻿ealthy Theatre  \n1﻿130 Wealthy St SE\, Grand Rapids\, MI 49506 \nT﻿ickets are free but you must reserve your seat by registering online today!  Limited parking is available in a lot behind the theatre. Street parking is also available in the surrounding area. A map will be shared with attendees closer to the event. \n*CODA is rated PG-13* \nASL interpreters will be provided for the panel discussion and public announcements at this event. If you need additional accommodations\, such as DeafBlind interpreters\, specific seating arrangements\, or other accessibility needs\, please contact Erica Chapin by emailing community@deafhhs.org \nQuestions about the event? Please email Erica Chapin\, Community & Partnerships Manager\, at community@deafhhs.org
URL:https://deafhhs.org/event/coda-movie-deaf-history-month-event/
LOCATION:Wealthy Theatre\, 1130 Wealthy St SE\, Grand Rapids\, MI 49506\, Grand Rapids\, MI\, 49506\, US
ATTACH;FMTTYPE=image/png:https://deafhhs.org/wp-content/uploads/2023/04/5827_image.png
END:VEVENT
END:VCALENDAR