BEGIN:VCALENDAR
VERSION:2.0
PRODID:-// - ECPv6.15.3//NONSGML v1.0//EN
CALSCALE:GREGORIAN
METHOD:PUBLISH
X-ORIGINAL-URL:https://deafhhs.org
X-WR-CALDESC:Events for 
REFRESH-INTERVAL;VALUE=DURATION:PT1H
X-Robots-Tag:noindex
X-PUBLISHED-TTL:PT1H
BEGIN:VTIMEZONE
TZID:UTC
BEGIN:STANDARD
TZOFFSETFROM:+0000
TZOFFSETTO:+0000
TZNAME:UTC
DTSTART:20230101T000000
END:STANDARD
END:VTIMEZONE
BEGIN:VEVENT
DTSTART;TZID=UTC:20230421T100000
DTEND;TZID=UTC:20230421T110000
DTSTAMP:20260419T222708
CREATED:20230207T163015Z
LAST-MODIFIED:20230207T163015Z
UID:5752-1682071200-1682074800@deafhhs.org
SUMMARY:ASL Storytime with KDL
DESCRIPTION:We are partnering with Kent District Library to provide an ASL Storytime at the Cascade KDL each Friday at 10 am.\n\nStorytimes are led together by D&HHS and KDL Staff\, with stories told in ASL by a Deaf leader. Interpreters are provided.\n\nYou can find information on the KDL website here – https://kdl.bibliocommons.com/events/639b83980470e64100b3ced9
URL:https://deafhhs.org/event/asl-storytime-with-kdl-7/
LOCATION:Cascade Kent District Library\, 2870 Jacksmith Ave SE\, Grand Rapids\, MI\, 49546\, United States
END:VEVENT
END:VCALENDAR