BEGIN:VCALENDAR
VERSION:2.0
PRODID:-// - ECPv6.15.3//NONSGML v1.0//EN
CALSCALE:GREGORIAN
METHOD:PUBLISH
X-ORIGINAL-URL:https://deafhhs.org
X-WR-CALDESC:Events for 
REFRESH-INTERVAL;VALUE=DURATION:PT1H
X-Robots-Tag:noindex
X-PUBLISHED-TTL:PT1H
BEGIN:VTIMEZONE
TZID:UTC
BEGIN:STANDARD
TZOFFSETFROM:+0000
TZOFFSETTO:+0000
TZNAME:UTC
DTSTART:20230101T000000
END:STANDARD
END:VTIMEZONE
BEGIN:VEVENT
DTSTART;TZID=UTC:20230504T100000
DTEND;TZID=UTC:20230504T120000
DTSTAMP:20260419T170056
CREATED:20230207T162307Z
LAST-MODIFIED:20230207T162307Z
UID:5736-1683194400-1683201600@deafhhs.org
SUMMARY:Senior Workshops
DESCRIPTION:These workshops are focused on topics for Deaf\, DeafBlind\, and Hard of Hearing Senior Citizens\, but all ages are welcome! Workshops are on the first Thursday of the month from 10am-12pm at our new home\, the Special Olympics Unified Sports and Inclusion Center\, on 68th Street in Grand Rapids! \nPlease park on the West side of the building near the gyms. \nTopics change each month. Follow our Facebook page to see more about this month’s topic!
URL:https://deafhhs.org/event/senior-workshops-5/
LOCATION:160 68th St SW\, 160 68th Street SW Ste 140\, Grand Rapids\, MI 49548\, Grand Rapids\, MI\, 49548\, US
END:VEVENT
END:VCALENDAR