BEGIN:VCALENDAR
VERSION:2.0
PRODID:-// - ECPv6.15.3//NONSGML v1.0//EN
CALSCALE:GREGORIAN
METHOD:PUBLISH
X-ORIGINAL-URL:https://deafhhs.org
X-WR-CALDESC:Events for 
REFRESH-INTERVAL;VALUE=DURATION:PT1H
X-Robots-Tag:noindex
X-PUBLISHED-TTL:PT1H
BEGIN:VTIMEZONE
TZID:UTC
BEGIN:STANDARD
TZOFFSETFROM:+0000
TZOFFSETTO:+0000
TZNAME:UTC
DTSTART:20230101T000000
END:STANDARD
END:VTIMEZONE
BEGIN:VEVENT
DTSTART;TZID=UTC:20230930T100000
DTEND;TZID=UTC:20230930T120000
DTSTAMP:20260419T162217
CREATED:20230624T203916Z
LAST-MODIFIED:20230624T203916Z
UID:5929-1696068000-1696075200@deafhhs.org
SUMMARY:Ableism & Microaggression with Christopher Samp (Online)
DESCRIPTION:Online workshop using Zoom\n\n\nJ﻿oin us as Christopher shares important insights into the impacts of ableism\, microagressions\, and much more! Christopher’s life-long commitment to advocacy stems from his personal experiences as a Deaf person. He earned BS and MS degrees in Public Policy from RIT. Today\, he works for the City of Detroit as director of the Office of Disability Affairs. \nTickets $25 – For Early Registration Discount. After September 8\, price increases to $35 \nCancellation policy – A 50% refund will be issued if cancelled before September 8. No refunds will be given after this date. Eventbrite fees will not be refunded. \nThis workshop will be delivered in ASL with no ASL to English (voiced) interpretation.  \nC﻿EUs Pending from RID and Michigan BCHS-LARA (seeking ethics and PPO ceu credits)
URL:https://deafhhs.org/event/ableism-microaggression-with-christopher-samp-online/
ATTACH;FMTTYPE=image/png:https://deafhhs.org/wp-content/uploads/2023/06/5929_image.png
END:VEVENT
END:VCALENDAR