BEGIN:VCALENDAR
VERSION:2.0
PRODID:-// - ECPv6.15.3//NONSGML v1.0//EN
CALSCALE:GREGORIAN
METHOD:PUBLISH
X-ORIGINAL-URL:https://deafhhs.org
X-WR-CALDESC:Events for 
REFRESH-INTERVAL;VALUE=DURATION:PT1H
X-Robots-Tag:noindex
X-PUBLISHED-TTL:PT1H
BEGIN:VTIMEZONE
TZID:UTC
BEGIN:STANDARD
TZOFFSETFROM:+0000
TZOFFSETTO:+0000
TZNAME:UTC
DTSTART:20190101T000000
END:STANDARD
END:VTIMEZONE
BEGIN:VEVENT
DTSTART;TZID=UTC:20190918T180000
DTEND;TZID=UTC:20191106T200000
DTSTAMP:20260425T203716
CREATED:20190816T134841Z
LAST-MODIFIED:20190816T134841Z
UID:1783-1568829600-1573070400@deafhhs.org
SUMMARY:Deliberate Practice Group
DESCRIPTION:Join us for Deliberate Practice Group on Wednesdays at D&HHS’ office for two hours of focused practice on ASL to English interpreting. Join us for one session or all 8! \nDates include September 18\, 25 October 2\, 9\, 16\, 23\, 30 and November 6 2019.\n 5:30 pm – 7:30 pm.\nConnecticut RID is an approved RID CMP Sponsor for Continuing Education Activities. This Professional Studies (PS) program is offered for 0.2 CEUs at the “Some” instructional level for each week of attendance.
URL:https://deafhhs.org/event/deliberate-practice-group-2/
END:VEVENT
BEGIN:VEVENT
DTSTART;TZID=UTC:20191010T153000
DTEND;TZID=UTC:20191010T163000
DTSTAMP:20260425T203716
CREATED:20190922T182127Z
LAST-MODIFIED:20190930T181953Z
UID:1821-1570721400-1570725000@deafhhs.org
SUMMARY:Teen Club Television Production
DESCRIPTION:Teen Club is an opportunity for Deaf\, DeafBlind\, & Hard of Hearing students/teen to meet new friends and participate in fun activities that build new skills!\n\n\nJoin us in learning what it is like to work in television production. Tour the WOOD TV 8 studio with Maranda Where you Live. Chat with Brett\, a Hard of Hearing man who works in television production!\n\n\nThis is a one hour event taking place on October 10 from 3:30 pm to 4:30 pm.\n\n\nRegister for this outing by October 9\, 2019 using Evenbrite. This is a FREE event for Deaf\, Deafblind\, & Hard of Hearing students/teens in middle school or high school only.\n\n\n\n\n\nQuestions? Contact us – \n\n\n\nemail: kidsigns@deafhhs.org \n\n\nTelephone: 616-732-7358 \n\n\n\n 
URL:https://deafhhs.org/event/teen-club-television-production/
ATTACH;FMTTYPE=image/png:https://deafhhs.org/wp-content/uploads/2019/09/1821_image.png
END:VEVENT
BEGIN:VEVENT
DTSTART;TZID=UTC:20191024T170000
DTEND;TZID=UTC:20191024T190000
DTSTAMP:20260425T203716
CREATED:20191002T145743Z
LAST-MODIFIED:20191002T145743Z
UID:1834-1571936400-1571943600@deafhhs.org
SUMMARY:Fall Fest
DESCRIPTION:Join us to celebrate Fall at Post Family Farms on October 24th\, 2019 from 5pm-7pm. Enjoy cider & donuts\, fall activities\, and a story time in ASL! This event is free for Deaf\, DeafBlind\, and Hard of Hearing children under 18 years old! All others are $5 for admission. No pre-registration necessary\, simply pay at the gate. We hope to see you there!
URL:https://deafhhs.org/event/fall-fest/
LOCATION:Post Family Farm\, 5081 Bauer Rd\, Hudsonville\, MI\, 49426\, United States
ATTACH;FMTTYPE=image/png:https://deafhhs.org/wp-content/uploads/2019/10/Fall-Fest-Flyer.png
END:VEVENT
END:VCALENDAR