BEGIN:VCALENDAR
VERSION:2.0
PRODID:-// - ECPv6.15.3//NONSGML v1.0//EN
CALSCALE:GREGORIAN
METHOD:PUBLISH
X-ORIGINAL-URL:https://deafhhs.org
X-WR-CALDESC:Events for 
REFRESH-INTERVAL;VALUE=DURATION:PT1H
X-Robots-Tag:noindex
X-PUBLISHED-TTL:PT1H
BEGIN:VTIMEZONE
TZID:UTC
BEGIN:STANDARD
TZOFFSETFROM:+0000
TZOFFSETTO:+0000
TZNAME:UTC
DTSTART:20190101T000000
END:STANDARD
END:VTIMEZONE
BEGIN:VEVENT
DTSTART;TZID=UTC:20191207T110000
DTEND;TZID=UTC:20191207T130000
DTSTAMP:20260425T172949
CREATED:20191110T174715Z
LAST-MODIFIED:20191123T202458Z
UID:1930-1575716400-1575723600@deafhhs.org
SUMMARY:Signing Santa
DESCRIPTION:Meet Deaf Santa \nMake Holiday Crafts \nEnjoy snacks and drinks \nSigned Story time at 11:30am and 12:30pm \nGifts available to the first 50 children! No tickets needed \nWant to help? We are in need of gift donations for this event! \nCall our office or stop by for more details 616-732-7358 \nLink to News Story about the event here
URL:https://deafhhs.org/event/signing-santa/
LOCATION:Crossroads Milddle School\, 4400 Ambrose NE\, Grand Rapids\, MI\, 49525\, United States
ATTACH;FMTTYPE=image/jpeg:https://deafhhs.org/wp-content/uploads/2019/11/74569272_10157638840119002_514069630705205248_o.jpg
END:VEVENT
END:VCALENDAR