BEGIN:VCALENDAR
VERSION:2.0
PRODID:-// - ECPv6.15.3//NONSGML v1.0//EN
CALSCALE:GREGORIAN
METHOD:PUBLISH
X-ORIGINAL-URL:https://deafhhs.org
X-WR-CALDESC:Events for 
REFRESH-INTERVAL;VALUE=DURATION:PT1H
X-Robots-Tag:noindex
X-PUBLISHED-TTL:PT1H
BEGIN:VTIMEZONE
TZID:UTC
BEGIN:STANDARD
TZOFFSETFROM:+0000
TZOFFSETTO:+0000
TZNAME:UTC
DTSTART:20200101T000000
END:STANDARD
END:VTIMEZONE
BEGIN:VEVENT
DTSTART;TZID=UTC:20200114T100000
DTEND;TZID=UTC:20200114T120000
DTSTAMP:20260425T155941
CREATED:20191226T215211Z
LAST-MODIFIED:20191226T221428Z
UID:2400-1578996000-1579003200@deafhhs.org
SUMMARY:January Community Session- MDCR
DESCRIPTION:Michigan Department of Civil Rights (MDCR) \nThe Division on Deaf\, DeafBlind and Hard of Hearing (DODDBHH) \nHave questions about navigating services? Have concerns you want to talk about? Come meet and talk with the Division on Deaf\, DeafBlind and Hard of Hearing at our monthly community sessions! \nMonthly sessions are scheduled for: \nTuesday January 14\, 2020 \nTuesday February 11\, 2020 \nTuesday March 24\, 2020 \nTuesday April 14\, 2020 \nTuesday May 12\, 2020 \nAll times 10:00 am – 12:00 pm\nLocation: Deaf and Hard of Hearing Services 3680 44th St\, SE Suite 201 Kentwood\, MI 49512 \nTo RSVP for the session and to confirm if you need an accommodation to attend\, please contact Alayna Zerlentes at ZerlentesA@michigan.gov or VP: 313-437-7035\nMeetings will be cancelled in case of inclement weather. \nMDCR plain text flyer
URL:https://deafhhs.org/event/january-community-session-michigan-department-of-civil-rights-the-division-on-deaf-deafblind-and-hard-of-hearing/
LOCATION:Deaf and Hard of Hearing Services\, 3680 44th St SE Ste 201\, Kentwood\, MI\, 49512\, United States
ORGANIZER;CN="MDCR  DODDBHH - Alayna Zerlentes":MAILTO:ZerlentesA@michigan.gov
END:VEVENT
BEGIN:VEVENT
DTSTART;TZID=UTC:20200125T180000
DTEND;TZID=UTC:20200125T210000
DTSTAMP:20260425T155941
CREATED:20200112T222404Z
LAST-MODIFIED:20200112T222537Z
UID:2453-1579975200-1579986000@deafhhs.org
SUMMARY:Deaf and Hard of Hearing Services - Night At The Griffins
DESCRIPTION:Saturday\, January 25th\nDoors open: 6pm / Game Time: 7pm\nGrand Rapids\, MI – Van Andel Arena \nThe Grand Rapids Griffins are excited to host D&HHS at the Griffins for their first ever Hockey Without Barriers Night on Saturday\, January 25th! \n\n– Hockey Without Barriers Night\n– American Sign Language\, ASL\, Interpretation\n– Exclusive seating and premium discounts\n– Pre-game fleece blanket giveaway \n\nGet your tickets now to ensure your seat for a night filled with friends\, family\, and hockey! By purchasing online you will be able to receive discounted tickets!\nFollow the link here to be seated in the interpreted section with the group from Deaf and Hard of Hearing Services. \n\n1. Go to www.griffinshockey.com/promocode\n2. Enter HOCKEY as your promo code\n3. Select seats and complete purchase!
URL:https://deafhhs.org/event/deaf-and-hard-of-hearing-services-night-at-the-griffins/
ATTACH;FMTTYPE=image/png:https://deafhhs.org/wp-content/uploads/2020/01/82634366_10157832015199002_265643478149496832_o.png
END:VEVENT
END:VCALENDAR