BEGIN:VCALENDAR
VERSION:2.0
PRODID:-// - ECPv6.15.3//NONSGML v1.0//EN
CALSCALE:GREGORIAN
METHOD:PUBLISH
X-ORIGINAL-URL:https://deafhhs.org
X-WR-CALDESC:Events for 
REFRESH-INTERVAL;VALUE=DURATION:PT1H
X-Robots-Tag:noindex
X-PUBLISHED-TTL:PT1H
BEGIN:VTIMEZONE
TZID:UTC
BEGIN:STANDARD
TZOFFSETFROM:+0000
TZOFFSETTO:+0000
TZNAME:UTC
DTSTART:20210101T000000
END:STANDARD
END:VTIMEZONE
BEGIN:VEVENT
DTSTART;TZID=UTC:20210911T103000
DTEND;TZID=UTC:20210911T110000
DTSTAMP:20260424T070701
CREATED:20210824T171146Z
LAST-MODIFIED:20210824T171644Z
UID:4523-1631356200-1631358000@deafhhs.org
SUMMARY:Deaf Day at the Zoo
DESCRIPTION:Deaf Day at the Zoo is an adventure for the Deaf\, Deafblind\, and Hard of Hearing individuals and their families!\nTickets are FREE thanks to Binder Park Zoo Ticket to Adventure Program!\n\n\n**ALL CHILDREN UNDER 18 MUST BE ACCOMPANIED BY AN ADULT.** \nArrive at Binder Park Zoo at approximately 10 – 10:30 am. Zoo tickets will be handed out at the zoo entrance. Tickets are extremely limited. If you are no longer able to attend\, please contact us so that we can release your tickets for another family. \nYou will need to bring a lunch or buy a lunch in the zoo. DHHS will NOT be providing lunch. \nNo outside food or drink is permitted into the zoo\, but there is a picnic area by the parking lot to enjoy your lunch. \nIf you have a specific need please contact Erica Chapin – community@deafhhs.org or 616-732-7358 \nThere are only 70 Kids tickets & 60 Adult tickets available. Tickets must be reserved in advance!
URL:https://deafhhs.org/event/deaf-day-at-the-zoo-2/
LOCATION:Binder Park Zoo\, 7400 Division Dr\, Battle Creek\, MI 49014\, Battle Creek\, MI\, 49014\, US
ATTACH;FMTTYPE=image/png:https://deafhhs.org/wp-content/uploads/2021/08/4523_image.png
END:VEVENT
END:VCALENDAR