BEGIN:VCALENDAR
VERSION:2.0
PRODID:-// - ECPv6.15.3//NONSGML v1.0//EN
CALSCALE:GREGORIAN
METHOD:PUBLISH
X-ORIGINAL-URL:https://deafhhs.org
X-WR-CALDESC:Events for 
REFRESH-INTERVAL;VALUE=DURATION:PT1H
X-Robots-Tag:noindex
X-PUBLISHED-TTL:PT1H
BEGIN:VTIMEZONE
TZID:UTC
BEGIN:STANDARD
TZOFFSETFROM:+0000
TZOFFSETTO:+0000
TZNAME:UTC
DTSTART:20220101T000000
END:STANDARD
END:VTIMEZONE
BEGIN:VEVENT
DTSTART;TZID=UTC:20220124T163000
DTEND;TZID=UTC:20220124T173000
DTSTAMP:20260424T011437
CREATED:20220112T133124Z
LAST-MODIFIED:20220112T133124Z
UID:4964-1643041800-1643045400@deafhhs.org
SUMMARY:Deaf & Hard of Hearing Services Capital Campaign Launch
DESCRIPTION:Capital Campaign\n\n\nWe are so excited about a new home for Deaf and Hard of Hearing Services and the Capital Campaign that will help us create an accessible and welcoming space for everyone we serve. \n \nPlease join us on Monday\, January 24 to get a look at the entire campus\, at the space D&HHS will call home\, and to learn more about the Capital Campaign and what it will allow us to do to better serve our community.  \n \nMonday\, January 24\, 2022 at 4:30pm \nSpecial Olympics Unified Sports & Inclusion Campus \n160 68th St. SW\, Grand Rapids\, MI 49548 \n \nIf you have questions or special requests\, contact Erica Chapin at community@deafhhs.org or 616-732-7358 ext 211 \nThis event will be interpreted \n \n*Masks are required in the building*
URL:https://deafhhs.org/event/deaf-hard-of-hearing-services-capital-campaign-launch/
LOCATION:Special Olympics Unified Sports & Inclusion Campus (in the Auxilary Gym)\, 160 68th St SW\, Grand Rapids\, MI 49548\, Grand Rapids\, MI\, 49548\, US
ATTACH;FMTTYPE=image/png:https://deafhhs.org/wp-content/uploads/2022/01/4964_image.png
END:VEVENT
BEGIN:VEVENT
DTSTART;TZID=UTC:20220126T180000
DTEND;TZID=UTC:20220126T200000
DTSTAMP:20260424T011437
CREATED:20220112T133236Z
LAST-MODIFIED:20220112T133236Z
UID:4968-1643220000-1643227200@deafhhs.org
SUMMARY:Deliberate Practice Group Series 1 2022
DESCRIPTION:Deliberate practice group\n\n\nJoin us for Deliberate Practice Group on Wednesdays online for two hours of focused practice on ASL to English and English to ASL interpreting. Join us for one session or all 6!  \n**This practice group is targeted to Interpreters in Training Program (ITP) students and new interpreters to help them with their skills and provide positive feedback from mentors.** This practice group is conducted in spoken English\, please email workshops@deafhhs.org for accommodations before January 25\, 2022. \nDates include January 26\, February 2\, 9\, 16\, 23. March 2 \n6:00 – 8:00 pm. \nEach session $20. \nCancellation policy: NO REFUNDS \nFor example\, 4 sessions will cost you $80. All 6 sessions will cost you $120. \nWhen ordering please select the ticket that includes the number of sessions you would like to attend. For example\, if you want to attend 4 sessions click on this ticket. It will include the price for 4 sessions. You will be prompted to select which sessions you would like. \nConnecticut RID is an approved RID CMP Sponsor for Continuing Education Activities. This Professional Studies (PS) program is offered for 0.2 CEUs at the “Some” instructional level for each week of attendance.
URL:https://deafhhs.org/event/deliberate-practice-group-series-1-2022/
LOCATION:Online using Zoom\, 3680 44th Street Suite 201\, KENTWOOD\, MI 49512\, KENTWOOD\, MI\, 49512\, US
ATTACH;FMTTYPE=image/png:https://deafhhs.org/wp-content/uploads/2022/01/4968_image.png
END:VEVENT
END:VCALENDAR