BEGIN:VCALENDAR
VERSION:2.0
PRODID:-// - ECPv6.15.3//NONSGML v1.0//EN
CALSCALE:GREGORIAN
METHOD:PUBLISH
X-ORIGINAL-URL:https://deafhhs.org
X-WR-CALDESC:Events for 
REFRESH-INTERVAL;VALUE=DURATION:PT1H
X-Robots-Tag:noindex
X-PUBLISHED-TTL:PT1H
BEGIN:VTIMEZONE
TZID:UTC
BEGIN:STANDARD
TZOFFSETFROM:+0000
TZOFFSETTO:+0000
TZNAME:UTC
DTSTART:20220101T000000
END:STANDARD
END:VTIMEZONE
BEGIN:VEVENT
DTSTART;TZID=UTC:20220928T180000
DTEND;TZID=UTC:20220928T200000
DTSTAMP:20260422T161802
CREATED:20220902T124305Z
LAST-MODIFIED:20220902T124305Z
UID:5498-1664388000-1664395200@deafhhs.org
SUMMARY:Deliberate Practice Group Series 4 2022
DESCRIPTION:Deliberate practice group\n\n\nJoin us for Deliberate Practice Group on Wednesdays online for two hours of focused practice on ASL to English and English to ASL interpreting. Join us for one session or all 6!  \n**This practice group is targeted to Interpreters in Training Program (ITP) students and new interpreters to help them with their skills and provide positive feedback from mentors. ** This practice group is conducted in spoken English\, please email workshops@deafhhs.org for accommodations before September 7\, 2022. \nDates include September 28\, October 5\, 12\, 19\, 26\, November 2\, 2022 \n6:00 – 8:00 pm. \nEach session $20. \nCancellation policy: NO REFUNDS \nFor example\, 4 sessions will cost you $80. All 6 sessions will cost you $120. \nWhen ordering please select the ticket that includes the number of sessions you would like to attend. For example\, if you want to attend 4 sessions click on this ticket. It will include the price for 4 sessions. You will be prompted to select which sessions you would like. \nRID Professional Studies CEUs are Approved! \nMCDHH is an approved RID CMP sponsor for Continuing Education Activities. This Professional Studies (PS) program is offered for 0.2 CEUs at the “Some” instructional level.
URL:https://deafhhs.org/event/deliberate-practice-group-series-4-2022/
LOCATION:Online using Zoom\, 160 68th Street SW\, ste 140\, Grand Rapids\, MI 49548\, Grand Rapids\, MI\, 49548\, US
ATTACH;FMTTYPE=image/png:https://deafhhs.org/wp-content/uploads/2022/09/5498_image.png
END:VEVENT
END:VCALENDAR