BEGIN:VCALENDAR
VERSION:2.0
PRODID:-// - ECPv6.15.3//NONSGML v1.0//EN
CALSCALE:GREGORIAN
METHOD:PUBLISH
X-ORIGINAL-URL:https://deafhhs.org
X-WR-CALDESC:Events for 
REFRESH-INTERVAL;VALUE=DURATION:PT1H
X-Robots-Tag:noindex
X-PUBLISHED-TTL:PT1H
BEGIN:VTIMEZONE
TZID:UTC
BEGIN:STANDARD
TZOFFSETFROM:+0000
TZOFFSETTO:+0000
TZNAME:UTC
DTSTART:20220101T000000
END:STANDARD
END:VTIMEZONE
BEGIN:VEVENT
DTSTART;TZID=UTC:20221018T180000
DTEND;TZID=UTC:20221018T200000
DTSTAMP:20260422T115004
CREATED:20220902T124421Z
LAST-MODIFIED:20220902T124421Z
UID:5502-1666116000-1666123200@deafhhs.org
SUMMARY:Professional Conversations-Online with Zoom
DESCRIPTION:Professional Conversations\n\n\nDescription: \nProfessional Conversations\, hosted by the D&HHS Mentor Program\, invites future and current working interpreters to participate in Bi-monthly ethical discussions centered around creating professional communities of practice as an ASL interpreter. \nTuesday October 18\, 2022\, from 6 – 8pm. Online conversations hosted on Zoom.  \n$20/participant until October 4\, 2022. Price increase after that.  \nWorkshop will be held in spoken English. Accommodation requests must be made by  4 pm on October 11\, 2022. \nMCDHH is an approved RID CMP Sponsor for Continuing Education Activities. This Professional Studies (PS) program is offered for 0.2 CEUs at the “Some” instructional level. \n**Michigan LARA-BCHS “Ethics” CEUs  are PENDING** \nCancellation Policy – 50% refund if cancelled by October 4\, 2022. After this date\, no refund will be given. D&HHS reserves the right to cancel at any time with a full refund. Eventbrite fees will NOT be refunded.
URL:https://deafhhs.org/event/professional-conversations-online-with-zoom/
LOCATION:Online with Zoom\, 160 68th St SW\, Grand Rapids\, MI 49548\, Grand Rapids\, MI\, 49548\, US
ATTACH;FMTTYPE=image/png:https://deafhhs.org/wp-content/uploads/2022/09/5502_image.png
END:VEVENT
BEGIN:VEVENT
DTSTART;TZID=UTC:20221025T170000
DTEND;TZID=UTC:20221025T190000
DTSTAMP:20260422T115004
CREATED:20221005T171510Z
LAST-MODIFIED:20221005T171510Z
UID:5593-1666717200-1666724400@deafhhs.org
SUMMARY:Tricks and Treats
DESCRIPTION:Halloween Tricks and Treats\n\n\nJoin us for a fall night of Tricks and Treats! This event is for Deaf\, DeafBlind\, and Hard of Hearing kids and families.  \n \nTuesday\, October 25th 5pm-7pm \nSpecial Olympics of Michigan Building – Community Collaboration Center \n160 68th St SW  \nGrand Rapids\, MI 49548 \nThis event is an indoor event at the Special Olympics of Michigan Building. There will be different games and activities\, as well as fun fall treats and a chance for the kids to get candy! Costumes are welcome! \nInterpreters will be available. Please register all who plan to attend\, including adults. \nQuestions about the event? Please email Erica Chapin\, Community & Partnerships Manager\, at community@deafhhs.org
URL:https://deafhhs.org/event/tricks-and-treats/
LOCATION:Special Olympics of Michigan Building (new office of D&HHS)\, 160 68th St SW\, Grand Rapids\, MI 49548\, Grand Rapids\, MI\, 49548\, US
ATTACH;FMTTYPE=image/png:https://deafhhs.org/wp-content/uploads/2022/10/5593_image.png
END:VEVENT
END:VCALENDAR