BEGIN:VCALENDAR
VERSION:2.0
PRODID:-// - ECPv6.15.3//NONSGML v1.0//EN
CALSCALE:GREGORIAN
METHOD:PUBLISH
X-ORIGINAL-URL:https://deafhhs.org
X-WR-CALDESC:Events for 
REFRESH-INTERVAL;VALUE=DURATION:PT1H
X-Robots-Tag:noindex
X-PUBLISHED-TTL:PT1H
BEGIN:VTIMEZONE
TZID:UTC
BEGIN:STANDARD
TZOFFSETFROM:+0000
TZOFFSETTO:+0000
TZNAME:UTC
DTSTART:20220101T000000
END:STANDARD
END:VTIMEZONE
BEGIN:VEVENT
DTSTART;TZID=UTC:20221201T100000
DTEND;TZID=UTC:20221201T120000
DTSTAMP:20260420T134208
CREATED:20221012T170540Z
LAST-MODIFIED:20221012T170540Z
UID:5612-1669888800-1669896000@deafhhs.org
SUMMARY:Senior Workshops
DESCRIPTION:These workshops are focused on topics for Deaf\, DeafBlind\, and Hard of Hearing Senior Citizens\, but all ages are welcome! Workshops are on the first Thursday of the month from 10am-12pm at our new home\, the Special Olympics Unified Sports and Inclusion Center\, on 68th Street in Grand Rapids! \nPlease park on the West side of the building near the gyms. \nTopics change each month. Follow our Facebook page to see more about this month’s topic!
URL:https://deafhhs.org/event/senior-workshops-2/
LOCATION:160 68th St SW\, 160 68th Street SW Ste 140\, Grand Rapids\, MI 49548\, Grand Rapids\, MI\, 49548\, US
END:VEVENT
BEGIN:VEVENT
DTSTART;TZID=UTC:20221210T100000
DTEND;TZID=UTC:20221210T130000
DTSTAMP:20260420T134208
CREATED:20221118T133423Z
LAST-MODIFIED:20221118T133423Z
UID:5656-1670666400-1670677200@deafhhs.org
SUMMARY:Signing Santa 2022
DESCRIPTION:Holiday event with Signing Santa\n\n\nJOIN US FOR A FUN DAY WITH SANTA! \nA﻿ fun holiday event for Deaf\, DeafBlind\, and Hard of Hearing children! There will be crafts\, games\, and take-aways for everyone. Every child will have a chance to Sign with Santa and receive a gift! \nThis event is FREE to attend. We ask that you please pre-register the children attending so that our elves know how many gifts to have ready!  \n \nWe look forward to seeing you there! \n \nTime & Date: \nSaturday\, December 10th\, 2022 from 10am-1pm \n \nLocation:  \nO﻿ur new location at: \n1﻿60 68th St SW Ste 140 \nG﻿rand Rapids\, MI 49548 \n \nQuestions about the event? Please email Erica Chapin\, Community & Partnerships Manager\, at community@deafhhs.org \nGift donations are being collected for the children at this event. Please contact Erica Chapin at community@deafhhs.org for more details on how to make a gift donation. Or\, make a direct donation to support the event online at www.deafhhs.org/donate
URL:https://deafhhs.org/event/signing-santa-2022/
LOCATION:Special Olympics of Michigan Building\, 160 68th St SW Ste 140\, Grand Rapids\, MI 49548\, Grand Rapids\, MI\, 49548\, US
ATTACH;FMTTYPE=image/png:https://deafhhs.org/wp-content/uploads/2022/11/5656_image.png
END:VEVENT
END:VCALENDAR